BEGIN:VCALENDAR
VERSION:2.0
PRODID:-//All-Ireland Cultural Society of Oregon - ECPv6.15.20//NONSGML v1.0//EN
CALSCALE:GREGORIAN
METHOD:PUBLISH
X-ORIGINAL-URL:https://oregonirishsociety.org
X-WR-CALDESC:Events for All-Ireland Cultural Society of Oregon
REFRESH-INTERVAL;VALUE=DURATION:PT1H
X-Robots-Tag:noindex
X-PUBLISHED-TTL:PT1H
BEGIN:VTIMEZONE
TZID:America/Los_Angeles
BEGIN:DAYLIGHT
TZOFFSETFROM:-0800
TZOFFSETTO:-0700
TZNAME:PDT
DTSTART:20250309T100000
END:DAYLIGHT
BEGIN:STANDARD
TZOFFSETFROM:-0700
TZOFFSETTO:-0800
TZNAME:PST
DTSTART:20251102T090000
END:STANDARD
BEGIN:DAYLIGHT
TZOFFSETFROM:-0800
TZOFFSETTO:-0700
TZNAME:PDT
DTSTART:20260308T100000
END:DAYLIGHT
BEGIN:STANDARD
TZOFFSETFROM:-0700
TZOFFSETTO:-0800
TZNAME:PST
DTSTART:20261101T090000
END:STANDARD
BEGIN:DAYLIGHT
TZOFFSETFROM:-0800
TZOFFSETTO:-0700
TZNAME:PDT
DTSTART:20270314T100000
END:DAYLIGHT
BEGIN:STANDARD
TZOFFSETFROM:-0700
TZOFFSETTO:-0800
TZNAME:PST
DTSTART:20271107T090000
END:STANDARD
END:VTIMEZONE
BEGIN:VEVENT
DTSTART;TZID=America/Los_Angeles:20260501T193000
DTEND;TZID=America/Los_Angeles:20260501T230000
DTSTAMP:20260421T015622
CREATED:20260417T152649Z
LAST-MODIFIED:20260417T152744Z
UID:5946-1777663800-1777676400@oregonirishsociety.org
SUMMARY:1st Friday Ceili - Dale Russ\, Nell Russ-Cohen\, Cary Novotny
DESCRIPTION:Dale and Nell promo\nFinale of the season. $15 door
URL:https://oregonirishsociety.org/eventdetail/1st-friday-ceili-dale-russ-nell-russ-cohen-cary-novotny/
LOCATION:Winona Grange #271\, 8340 SW Seneca Street\, Tualatin\, OR\, 97062\, United States
CATEGORIES:Community Event
END:VEVENT
END:VCALENDAR