BEGIN:VCALENDAR
VERSION:2.0
PRODID:-//All-Ireland Cultural Society of Oregon - ECPv6.15.20//NONSGML v1.0//EN
CALSCALE:GREGORIAN
METHOD:PUBLISH
X-ORIGINAL-URL:https://oregonirishsociety.org
X-WR-CALDESC:Events for All-Ireland Cultural Society of Oregon
REFRESH-INTERVAL;VALUE=DURATION:PT1H
X-Robots-Tag:noindex
X-PUBLISHED-TTL:PT1H
BEGIN:VTIMEZONE
TZID:America/Los_Angeles
BEGIN:DAYLIGHT
TZOFFSETFROM:-0800
TZOFFSETTO:-0700
TZNAME:PDT
DTSTART:20240310T100000
END:DAYLIGHT
BEGIN:STANDARD
TZOFFSETFROM:-0700
TZOFFSETTO:-0800
TZNAME:PST
DTSTART:20241103T090000
END:STANDARD
BEGIN:DAYLIGHT
TZOFFSETFROM:-0800
TZOFFSETTO:-0700
TZNAME:PDT
DTSTART:20250309T100000
END:DAYLIGHT
BEGIN:STANDARD
TZOFFSETFROM:-0700
TZOFFSETTO:-0800
TZNAME:PST
DTSTART:20251102T090000
END:STANDARD
BEGIN:DAYLIGHT
TZOFFSETFROM:-0800
TZOFFSETTO:-0700
TZNAME:PDT
DTSTART:20260308T100000
END:DAYLIGHT
BEGIN:STANDARD
TZOFFSETFROM:-0700
TZOFFSETTO:-0800
TZNAME:PST
DTSTART:20261101T090000
END:STANDARD
END:VTIMEZONE
BEGIN:VEVENT
DTSTART;TZID=America/Los_Angeles:20251011T193000
DTEND;TZID=America/Los_Angeles:20251011T213000
DTSTAMP:20260420T050734
CREATED:20250908T170558Z
LAST-MODIFIED:20250908T173632Z
UID:5598-1760211000-1760218200@oregonirishsociety.org
SUMMARY:2nd Saturday Community Concert
DESCRIPTION:Soulard Boys with Johnny Connolly\, Kevin Buckley\, Cary Novotny and\, Dan Lowery
URL:https://oregonirishsociety.org/eventdetail/2nd-saturday-community-concert/
LOCATION:Winona Grange #271\, 8340 SW Seneca Street\, Tualatin\, OR\, 97062\, United States
CATEGORIES:Community Event
END:VEVENT
BEGIN:VEVENT
DTSTART;TZID=America/Los_Angeles:20251017T193000
DTEND;TZID=America/Los_Angeles:20251017T213000
DTSTAMP:20260420T050734
CREATED:20251013T200516Z
LAST-MODIFIED:20251013T200516Z
UID:5646-1760729400-1760736600@oregonirishsociety.org
SUMMARY:Gaelic Storm
DESCRIPTION:Go to https://columbiatheatre.com/new-events/gaelic-storm
URL:https://oregonirishsociety.org/eventdetail/gaelic-storm/
LOCATION:Columbia Theatre\, 1231 Vandercook Way\, Longview\, WA\, 98632\, United States
CATEGORIES:Community Event
END:VEVENT
BEGIN:VEVENT
DTSTART;TZID=America/Los_Angeles:20251017T193000
DTEND;TZID=America/Los_Angeles:20251017T220000
DTSTAMP:20260420T050734
CREATED:20250908T170737Z
LAST-MODIFIED:20250908T170737Z
UID:5600-1760729400-1760738400@oregonirishsociety.org
SUMMARY:3rd Friday Irish set dance
DESCRIPTION:Go to website
URL:https://oregonirishsociety.org/eventdetail/3rd-friday-irish-set-dance/
LOCATION:OR
CATEGORIES:Community Event
END:VEVENT
BEGIN:VEVENT
DTSTART;TZID=America/Los_Angeles:20251018T153000
DTEND;TZID=America/Los_Angeles:20251018T173000
DTSTAMP:20260420T050734
CREATED:20250921T192303Z
LAST-MODIFIED:20251013T195646Z
UID:5624-1760801400-1760808600@oregonirishsociety.org
SUMMARY:BINGO - all welcome
DESCRIPTION:BINGO with an additional $50 gift card for the blackout\nSaturday\, October 18\, 3:30 \n$1/card or 6 for $5 – PAYS 50%/game. Blackout $2/card or 6 for $10 – PAYS 100% plus $50.00 gift card. 5 Games plus blackout; straight line (diagonal\, horizontal or vertical)\, inside picture frame (4 corners around free)\, outside picture frame (outside corners\, no I\, N\, G)\, postage stamp (top right (NE corner) G & O)\, railroad (2 verticals B & O only)\, BLACKOUT. Committee Kevin Seed\, Sean Garvey\, Samuel Keator
URL:https://oregonirishsociety.org/eventdetail/bingo-all-welcome/
LOCATION:Oregon Stamp Society\, 4828 NE 33rd Ave\, Portland\, OR\, 97211\, United States
CATEGORIES:Annual Events
END:VEVENT
BEGIN:VEVENT
DTSTART;TZID=America/Los_Angeles:20251025T100000
DTEND;TZID=America/Los_Angeles:20251025T170000
DTSTAMP:20260420T050734
CREATED:20250908T171425Z
LAST-MODIFIED:20251013T195444Z
UID:5605-1761386400-1761411600@oregonirishsociety.org
SUMMARY:Annual Samhain Festival
DESCRIPTION:FREE admission and we will have a community booth. Stop by and say hi. \nGo to website for details https://celticfestival.info/
URL:https://oregonirishsociety.org/eventdetail/annual-samhain-festival/
LOCATION:OR
CATEGORIES:Community Event
END:VEVENT
BEGIN:VEVENT
DTSTART;TZID=America/Los_Angeles:20251031T193000
DTEND;TZID=America/Los_Angeles:20251031T220000
DTSTAMP:20260420T050734
CREATED:20250908T171011Z
LAST-MODIFIED:20251013T195251Z
UID:5603-1761939000-1761948000@oregonirishsociety.org
SUMMARY:Reverie Road - Samhain concert special
DESCRIPTION:More info at https://www.tickettomato.com/event/9226/ \nReverie Road is a genre-defying Celtic powerhouse ensemble\, uniting founding Solas members Winifred Horan (fiddle) and John Williams (accordion) with former Gaelic Storm fiddler Katie Grennan and Steinway Artist Jazz and Raga pianist Utsav Lal. Together\, these four exceptional musicians are celebrated as some of todays most accomplished traditional and virtuosic folk artists\, captivating audiences worldwide from stages to studios for over three decades.
URL:https://oregonirishsociety.org/eventdetail/reverie-road-samhain-concert-special/
LOCATION:Winona Grange #271\, 8340 SW Seneca Street\, Tualatin\, OR\, 97062\, United States
CATEGORIES:Community Event
END:VEVENT
END:VCALENDAR