BEGIN:VCALENDAR
VERSION:2.0
PRODID:-//All-Ireland Cultural Society of Oregon - ECPv6.15.20//NONSGML v1.0//EN
CALSCALE:GREGORIAN
METHOD:PUBLISH
X-ORIGINAL-URL:https://oregonirishsociety.org
X-WR-CALDESC:Events for All-Ireland Cultural Society of Oregon
REFRESH-INTERVAL;VALUE=DURATION:PT1H
X-Robots-Tag:noindex
X-PUBLISHED-TTL:PT1H
BEGIN:VTIMEZONE
TZID:America/Los_Angeles
BEGIN:DAYLIGHT
TZOFFSETFROM:-0800
TZOFFSETTO:-0700
TZNAME:PDT
DTSTART:20240310T100000
END:DAYLIGHT
BEGIN:STANDARD
TZOFFSETFROM:-0700
TZOFFSETTO:-0800
TZNAME:PST
DTSTART:20241103T090000
END:STANDARD
BEGIN:DAYLIGHT
TZOFFSETFROM:-0800
TZOFFSETTO:-0700
TZNAME:PDT
DTSTART:20250309T100000
END:DAYLIGHT
BEGIN:STANDARD
TZOFFSETFROM:-0700
TZOFFSETTO:-0800
TZNAME:PST
DTSTART:20251102T090000
END:STANDARD
BEGIN:DAYLIGHT
TZOFFSETFROM:-0800
TZOFFSETTO:-0700
TZNAME:PDT
DTSTART:20260308T100000
END:DAYLIGHT
BEGIN:STANDARD
TZOFFSETFROM:-0700
TZOFFSETTO:-0800
TZNAME:PST
DTSTART:20261101T090000
END:STANDARD
END:VTIMEZONE
BEGIN:VEVENT
DTSTART;TZID=America/Los_Angeles:20250917T190000
DTEND;TZID=America/Los_Angeles:20250917T210000
DTSTAMP:20260425T085125
CREATED:20250917T192348Z
LAST-MODIFIED:20250917T192348Z
UID:5620-1758135600-1758142800@oregonirishsociety.org
SUMMARY:TVF&R Pipes and Drums Band 25th Anniversary party
DESCRIPTION:Clancy’s Irish Pub\, Sherwood\, OR
URL:https://oregonirishsociety.org/eventdetail/tvfr-pipes-and-drums-band-25th-anniversary-party/
LOCATION:Clancy’s Irish Pub\, 16066 SW 1st St\, Sherwood\, OR\, 97140\, United States
CATEGORIES:Community Event
END:VEVENT
END:VCALENDAR